BEGIN:VCALENDAR
VERSION:2.0
PRODID:-//Oshawa Camera Club - ECPv6.15.20//NONSGML v1.0//EN
CALSCALE:GREGORIAN
METHOD:PUBLISH
X-ORIGINAL-URL:https://www.oshawacameraclub.ca
X-WR-CALDESC:Events for Oshawa Camera Club
REFRESH-INTERVAL;VALUE=DURATION:PT1H
X-Robots-Tag:noindex
X-PUBLISHED-TTL:PT1H
BEGIN:VTIMEZONE
TZID:America/Toronto
BEGIN:DAYLIGHT
TZOFFSETFROM:-0500
TZOFFSETTO:-0400
TZNAME:EDT
DTSTART:20250309T070000
END:DAYLIGHT
BEGIN:STANDARD
TZOFFSETFROM:-0400
TZOFFSETTO:-0500
TZNAME:EST
DTSTART:20251102T060000
END:STANDARD
BEGIN:DAYLIGHT
TZOFFSETFROM:-0500
TZOFFSETTO:-0400
TZNAME:EDT
DTSTART:20260308T070000
END:DAYLIGHT
BEGIN:STANDARD
TZOFFSETFROM:-0400
TZOFFSETTO:-0500
TZNAME:EST
DTSTART:20261101T060000
END:STANDARD
BEGIN:DAYLIGHT
TZOFFSETFROM:-0500
TZOFFSETTO:-0400
TZNAME:EDT
DTSTART:20270314T070000
END:DAYLIGHT
BEGIN:STANDARD
TZOFFSETFROM:-0400
TZOFFSETTO:-0500
TZNAME:EST
DTSTART:20271107T060000
END:STANDARD
END:VTIMEZONE
BEGIN:VEVENT
DTSTART;VALUE=DATE:20260502
DTEND;VALUE=DATE:20260503
DTSTAMP:20260424T003405
CREATED:20260326T233614Z
LAST-MODIFIED:20260326T233614Z
UID:175587-1777680000-1777766399@www.oshawacameraclub.ca
SUMMARY:O3C Beyond the Frame: May 2\, 2026
DESCRIPTION:
URL:https://www.oshawacameraclub.ca/event/o3c-beyond-the-frame-may-2-2026/
CATEGORIES:O3C Event
ATTACH;FMTTYPE=image/jpeg:https://www.oshawacameraclub.ca/wp-content/uploads/Post-Logo1-600.jpg
END:VEVENT
BEGIN:VEVENT
DTSTART;TZID=America/Toronto:20260506T100000
DTEND;TZID=America/Toronto:20260506T120000
DTSTAMP:20260424T003405
CREATED:20251203T031505Z
LAST-MODIFIED:20251203T031505Z
UID:174556-1778061600-1778068800@www.oshawacameraclub.ca
SUMMARY:OCC SIG: Image Evaluation May 6\, 2026
DESCRIPTION:See SIG Page for Full Details: https://www.oshawacameraclub.ca/special-interest-groups/image-clinic/ \nAll Club Members are free to join in on meetings – see the recurring link below. \nRecurring Zoom Meeting: https://www.google.com/url?q=https://us06web.zoom.us/j/81574509962?pwd%3DFeHdVLIblbdwWDV75cCce1AC5bfebA.1&sa=D&source=calendar&usd=2&usg=AOvVaw22NNrJ_rX0gpddn_KTB8dp \nMeeting ID: 815 7450 9962\nPasscode: 3cFy&HE#
URL:https://www.oshawacameraclub.ca/event/occ-sig-image-evaluation-may-6-2026/
LOCATION:ZOOM\, Canada
ATTACH;FMTTYPE=image/jpeg:https://www.oshawacameraclub.ca/wp-content/uploads/Post-Logo1-600.jpg
END:VEVENT
BEGIN:VEVENT
DTSTART;TZID=America/Toronto:20260507T190000
DTEND;TZID=America/Toronto:20260507T210000
DTSTAMP:20260424T003405
CREATED:20251203T030649Z
LAST-MODIFIED:20251203T030649Z
UID:174545-1778180400-1778187600@www.oshawacameraclub.ca
SUMMARY:OCC SIG: Light Painting May 7\, 2026
DESCRIPTION:See SIG Page for Full Details: https://www.oshawacameraclub.ca/special-interest-groups/occ-sig-light-painting/ \nAll Club Members are free to join in on meetings – see the recurring link below. \nRecurring Zoom Meeting: https://www.google.com/url?q=https://us06web.zoom.us/j/83344482621?pwd%3DD1C11GWgOZXCyT4OAHzVsE9dgnokvZ.1&sa=D&source=calendar&usd=2&usg=AOvVaw1cl522O9rxqWkQkGrJ3ZBn \nMeeting ID: 833 4448 2621 \nPasscode: Oc#LPSiG25 \nGeneral Agenda: \n\n7:00-7:30pm   General discussion and chat on the previous outing/assignment\n7:30-8:45pm   Presenter (approx time – don’t have to use the full time allotment)\n8:45-9:00pm   Discussion for next outing or assignment
URL:https://www.oshawacameraclub.ca/event/occ-sig-light-painting-may-7-2026/
LOCATION:ZOOM\, Canada
ATTACH;FMTTYPE=image/jpeg:https://www.oshawacameraclub.ca/wp-content/uploads/Post-Logo1-600.jpg
END:VEVENT
BEGIN:VEVENT
DTSTART;TZID=America/Toronto:20260512T180000
DTEND;TZID=America/Toronto:20260512T210000
DTSTAMP:20260424T003405
CREATED:20260111T215116Z
LAST-MODIFIED:20260111T215116Z
UID:174866-1778608800-1778619600@www.oshawacameraclub.ca
SUMMARY:OCC PhotoEx
DESCRIPTION:Annual OCC Photo Exhibition \nAgenda: TBA \nLive Event Only.
URL:https://www.oshawacameraclub.ca/event/occ-photoex/
LOCATION:Hope Fellowship Church\, 1685 Bloor St\, Courtice\,\, courtice\, ON\, L1E 2N1\, Canada
CATEGORIES:Community Event
ATTACH;FMTTYPE=image/jpeg:https://www.oshawacameraclub.ca/wp-content/uploads/Post-Logo1-600.jpg
END:VEVENT
BEGIN:VEVENT
DTSTART;TZID=America/Toronto:20260513T190000
DTEND;TZID=America/Toronto:20260513T210000
DTSTAMP:20260424T003405
CREATED:20260112T012444Z
LAST-MODIFIED:20260112T012444Z
UID:174892-1778698800-1778706000@www.oshawacameraclub.ca
SUMMARY:OCC SIG: Smartphone Photography
DESCRIPTION:See SIG Page for Full Details: https://www.oshawacameraclub.ca/special-interest-groups/occ-sig-ai-photography-sig/ \nAll Club Members are free to join in on meetings – see the recurring link below. \nRecurring Zoom Meeting: https://us06web.zoom.us/j/83203553901?pwd=umyYCDVKvf07bQM5P8baQzec748zIm.1  \nMeeting ID: 832 0355 3901  \nPasscode: 26SpSg$464
URL:https://www.oshawacameraclub.ca/event/occ-sig-smartphone-photography-5/
LOCATION:ZOOM\, Canada
ATTACH;FMTTYPE=image/jpeg:https://www.oshawacameraclub.ca/wp-content/uploads/Post-Logo1-600.jpg
END:VEVENT
BEGIN:VEVENT
DTSTART;TZID=America/Toronto:20260520T100000
DTEND;TZID=America/Toronto:20260520T120000
DTSTAMP:20260424T003405
CREATED:20251203T033448Z
LAST-MODIFIED:20251203T033448Z
UID:174583-1779271200-1779278400@www.oshawacameraclub.ca
SUMMARY:OCC SIG: Album Cover Art May 20\, 2026
DESCRIPTION:See SIG Page for details: OCC SiG: Album Covers – Oshawa Camera Club \nAll Club Members are free to join in on meetings – see the recurring link below. \nJoin Zoom Meeting: https://www.google.com/url?q=https://us06web.zoom.us/j/89865932891?pwd%3DO0agsC9OAg8xPbBlNIa7FbMafffr15.1&sa=D&source=calendar&usd=2&usg=AOvVaw383oori0fLR4ECHRJiDn9E \nMeeting ID: 898 6593 2891\nPasscode: $?d+0$Ru
URL:https://www.oshawacameraclub.ca/event/occ-sig-album-cover-art-may-20-2026/
LOCATION:ZOOM\, Canada
ATTACH;FMTTYPE=image/jpeg:https://www.oshawacameraclub.ca/wp-content/uploads/Post-Logo1-600.jpg
END:VEVENT
BEGIN:VEVENT
DTSTART;TZID=America/Toronto:20260521T190000
DTEND;TZID=America/Toronto:20260521T210000
DTSTAMP:20260424T003405
CREATED:20260112T011643Z
LAST-MODIFIED:20260414T013918Z
UID:174881-1779390000-1779397200@www.oshawacameraclub.ca
SUMMARY:OCC SIG: AI & Photography
DESCRIPTION:See SIG Page for Full Details: https://www.oshawacameraclub.ca/special-interest-groups/occ-sig-ai-photography-sig/ \nNote: This meeting is cancelled.
URL:https://www.oshawacameraclub.ca/event/occ-sig-ai-photography-5/
LOCATION:ZOOM\, Canada
ATTACH;FMTTYPE=image/jpeg:https://www.oshawacameraclub.ca/wp-content/uploads/Post-Logo1-600.jpg
END:VEVENT
END:VCALENDAR