BEGIN:VCALENDAR
VERSION:2.0
PRODID:-//Oshawa Camera Club - ECPv6.15.20//NONSGML v1.0//EN
CALSCALE:GREGORIAN
METHOD:PUBLISH
X-WR-CALNAME:Oshawa Camera Club
X-ORIGINAL-URL:https://www.oshawacameraclub.ca
X-WR-CALDESC:Events for Oshawa Camera Club
REFRESH-INTERVAL;VALUE=DURATION:PT1H
X-Robots-Tag:noindex
X-PUBLISHED-TTL:PT1H
BEGIN:VTIMEZONE
TZID:America/Toronto
BEGIN:DAYLIGHT
TZOFFSETFROM:-0500
TZOFFSETTO:-0400
TZNAME:EDT
DTSTART:20250309T070000
END:DAYLIGHT
BEGIN:STANDARD
TZOFFSETFROM:-0400
TZOFFSETTO:-0500
TZNAME:EST
DTSTART:20251102T060000
END:STANDARD
BEGIN:DAYLIGHT
TZOFFSETFROM:-0500
TZOFFSETTO:-0400
TZNAME:EDT
DTSTART:20260308T070000
END:DAYLIGHT
BEGIN:STANDARD
TZOFFSETFROM:-0400
TZOFFSETTO:-0500
TZNAME:EST
DTSTART:20261101T060000
END:STANDARD
BEGIN:DAYLIGHT
TZOFFSETFROM:-0500
TZOFFSETTO:-0400
TZNAME:EDT
DTSTART:20270314T070000
END:DAYLIGHT
BEGIN:STANDARD
TZOFFSETFROM:-0400
TZOFFSETTO:-0500
TZNAME:EST
DTSTART:20271107T060000
END:STANDARD
END:VTIMEZONE
BEGIN:VEVENT
DTSTART;TZID=America/Toronto:20260426T000000
DTEND;TZID=America/Toronto:20260426T180000
DTSTAMP:20260424T033820
CREATED:20260419T151908Z
LAST-MODIFIED:20260419T152051Z
UID:175730-1777161600-1777226400@www.oshawacameraclub.ca
SUMMARY:AGM Voting closes 6 p.m.
DESCRIPTION:Vote before 6 p.m. April 26 for your vote to count.
URL:https://www.oshawacameraclub.ca/event/agm-voting-closes-6-p-m/
ATTACH;FMTTYPE=image/jpeg:https://www.oshawacameraclub.ca/wp-content/uploads/Post-Logo1-600.jpg
END:VEVENT
BEGIN:VEVENT
DTSTART;TZID=America/Toronto:20260425T090000
DTEND;TZID=America/Toronto:20260425T110000
DTSTAMP:20260424T033820
CREATED:20260406T183831Z
LAST-MODIFIED:20260407T144712Z
UID:175626-1777107600-1777114800@www.oshawacameraclub.ca
SUMMARY:Outing to Primitive Designs\, Port Hope
DESCRIPTION:Meet at 9 a.m. for a tour and then shoot until 11 a.m. Bring $10 cash for a donation to Primitive Designs. \nAfter an hour of photos we can meet on the way home at the 401 Enroute westbound between Port Hope and Newcastle. Refreshments  will be available and we can discuss what we found.
URL:https://www.oshawacameraclub.ca/event/outing-to-primitive-designs-port-hope/
LOCATION:Primitive Designs\, Port Hope
ATTACH;FMTTYPE=image/jpeg:https://www.oshawacameraclub.ca/wp-content/uploads/Post-Logo1-600.jpg
END:VEVENT
BEGIN:VEVENT
DTSTART;TZID=America/Toronto:20260416T190000
DTEND;TZID=America/Toronto:20260416T210000
DTSTAMP:20260424T033820
CREATED:20260112T011541Z
LAST-MODIFIED:20260112T011541Z
UID:174879-1776366000-1776373200@www.oshawacameraclub.ca
SUMMARY:OCC SIG: AI & Photography
DESCRIPTION:See SIG Page for Full Details: https://www.oshawacameraclub.ca/special-interest-groups/occ-sig-ai-photography-sig/ \nAll Club Members are free to join in on meetings – see the recurring link below. \nRecurring Zoom Meeting: https://www.google.com/url?q=https://us06web.zoom.us/j/85474933961?pwd%3DobeClT5Q8QILKaLQOMabFpKk4hpURw.1&sa=D&source=calendar&usd=2&usg=AOvVaw3fb0SHWp4ApsWrfm2SKZLw \nMeeting ID: 854 7493 3961 \nPasscode: ApSg#969
URL:https://www.oshawacameraclub.ca/event/occ-sig-ai-photography-4/
LOCATION:ZOOM\, Canada
ATTACH;FMTTYPE=image/jpeg:https://www.oshawacameraclub.ca/wp-content/uploads/Post-Logo1-600.jpg
END:VEVENT
BEGIN:VEVENT
DTSTART;TZID=America/Toronto:20260415T100000
DTEND;TZID=America/Toronto:20260415T120000
DTSTAMP:20260424T033820
CREATED:20251203T033348Z
LAST-MODIFIED:20251203T033348Z
UID:174581-1776247200-1776254400@www.oshawacameraclub.ca
SUMMARY:OCC SIG: Album Cover Art April 15\, 2026
DESCRIPTION:See SIG Page for details: OCC SiG: Album Covers – Oshawa Camera Club \nAll Club Members are free to join in on meetings – see the recurring link below. \nJoin Zoom Meeting: https://www.google.com/url?q=https://us06web.zoom.us/j/89865932891?pwd%3DO0agsC9OAg8xPbBlNIa7FbMafffr15.1&sa=D&source=calendar&usd=2&usg=AOvVaw383oori0fLR4ECHRJiDn9E \nMeeting ID: 898 6593 2891\nPasscode: $?d+0$Ru
URL:https://www.oshawacameraclub.ca/event/occ-sig-album-cover-art-april-15-2026/
LOCATION:ZOOM\, Canada
ATTACH;FMTTYPE=image/jpeg:https://www.oshawacameraclub.ca/wp-content/uploads/Post-Logo1-600.jpg
END:VEVENT
BEGIN:VEVENT
DTSTART;TZID=America/Toronto:20260414T190000
DTEND;TZID=America/Toronto:20260414T210000
DTSTAMP:20260424T033820
CREATED:20260111T214554Z
LAST-MODIFIED:20260407T144908Z
UID:174862-1776193200-1776200400@www.oshawacameraclub.ca
SUMMARY:OCC Club Meeting: April 14\, 2026
DESCRIPTION:Guest Speaker Sandra Herber: Storm-Chasing from a Photographer’s View \nMeeting agenda:  \nMeeting is in person at Hope Fellowship Church.  \n\n\n6:00-7:00pm Virtual Social Hour / Break Out Rooms\n7:00-7:15pm Meeting Announcements\n7:15-8:00pm Part 1\n8:00-8:15pm Break\n8:15-8:50pm Part 2 \n8:50-9:00pm Closing \n9:00-9:30pm Virtual Social\n(All times are approximate and subject to change)\n\nZOOM Link: See Website Post
URL:https://www.oshawacameraclub.ca/event/occ-club-meeting-april-12-2026/
LOCATION:Hope Fellowship Church\, 1685 Bloor St\, Courtice\,\, courtice\, ON\, L1E 2N1\, Canada
ATTACH;FMTTYPE=image/jpeg:https://www.oshawacameraclub.ca/wp-content/uploads/Post-Logo1-600.jpg
END:VEVENT
BEGIN:VEVENT
DTSTART;TZID=America/Toronto:20260411T090000
DTEND;TZID=America/Toronto:20260411T090000
DTSTAMP:20260424T033820
CREATED:20260406T183323Z
LAST-MODIFIED:20260407T144618Z
UID:175624-1775898000-1775898000@www.oshawacameraclub.ca
SUMMARY:Registration for OCC Outing to Primitive Designs
DESCRIPTION:Primitive Designs north of Port Hope \nRegistration begins at 9 a.m. on the club website. It is capped at 15 people\, so register early. \nCost: $10 cash\, to be collected on the day\, for a donation to Primitive Designs
URL:https://www.oshawacameraclub.ca/event/signup-for-occ-outing-to-primitive-designs/
ATTACH;FMTTYPE=image/jpeg:https://www.oshawacameraclub.ca/wp-content/uploads/Post-Logo1-600.jpg
END:VEVENT
BEGIN:VEVENT
DTSTART;TZID=America/Toronto:20260408T190000
DTEND;TZID=America/Toronto:20260408T210000
DTSTAMP:20260424T033820
CREATED:20260112T012348Z
LAST-MODIFIED:20260112T012348Z
UID:174890-1775674800-1775682000@www.oshawacameraclub.ca
SUMMARY:OCC SIG: Smartphone Photography
DESCRIPTION:See SIG Page for Full Details: https://www.oshawacameraclub.ca/special-interest-groups/occ-sig-ai-photography-sig/ \nAll Club Members are free to join in on meetings – see the recurring link below. \nRecurring Zoom Meeting: https://us06web.zoom.us/j/83203553901?pwd=umyYCDVKvf07bQM5P8baQzec748zIm.1  \nMeeting ID: 832 0355 3901  \nPasscode: 26SpSg$464
URL:https://www.oshawacameraclub.ca/event/occ-sig-smartphone-photography-4/
LOCATION:ZOOM\, Canada
ATTACH;FMTTYPE=image/jpeg:https://www.oshawacameraclub.ca/wp-content/uploads/Post-Logo1-600.jpg
END:VEVENT
BEGIN:VEVENT
DTSTART;TZID=America/Toronto:20260402T190000
DTEND;TZID=America/Toronto:20260402T210000
DTSTAMP:20260424T033820
CREATED:20251203T030517Z
LAST-MODIFIED:20251203T030517Z
UID:174543-1775156400-1775163600@www.oshawacameraclub.ca
SUMMARY:OCC SIG: Light Painting April 2\, 2026
DESCRIPTION:See SIG Page for Full Details: https://www.oshawacameraclub.ca/special-interest-groups/occ-sig-light-painting/ \nAll Club Members are free to join in on meetings – see the recurring link below. \nRecurring Zoom Meeting: https://www.google.com/url?q=https://us06web.zoom.us/j/83344482621?pwd%3DD1C11GWgOZXCyT4OAHzVsE9dgnokvZ.1&sa=D&source=calendar&usd=2&usg=AOvVaw1cl522O9rxqWkQkGrJ3ZBn \nMeeting ID: 833 4448 2621 \nPasscode: Oc#LPSiG25 \nGeneral Agenda: \n\n7:00-7:30pm   General discussion and chat on the previous outing/assignment\n7:30-8:45pm   Presenter (approx time – don’t have to use the full time allotment)\n8:45-9:00pm   Discussion for next outing or assignment
URL:https://www.oshawacameraclub.ca/event/occ-sig-light-painting-april-2-2026/
LOCATION:ZOOM\, Canada
ATTACH;FMTTYPE=image/jpeg:https://www.oshawacameraclub.ca/wp-content/uploads/Post-Logo1-600.jpg
END:VEVENT
BEGIN:VEVENT
DTSTART;TZID=America/Toronto:20260401T100000
DTEND;TZID=America/Toronto:20260401T120000
DTSTAMP:20260424T033820
CREATED:20251203T031342Z
LAST-MODIFIED:20251203T031342Z
UID:174554-1775037600-1775044800@www.oshawacameraclub.ca
SUMMARY:OCC SIG: Image Evaluation April 1\, 2026
DESCRIPTION:See SIG Page for Full Details: https://www.oshawacameraclub.ca/special-interest-groups/image-clinic/ \nAll Club Members are free to join in on meetings – see the recurring link below. \nRecurring Zoom Meeting: https://www.google.com/url?q=https://us06web.zoom.us/j/81574509962?pwd%3DFeHdVLIblbdwWDV75cCce1AC5bfebA.1&sa=D&source=calendar&usd=2&usg=AOvVaw22NNrJ_rX0gpddn_KTB8dp \nMeeting ID: 815 7450 9962\nPasscode: 3cFy&HE#
URL:https://www.oshawacameraclub.ca/event/occ-sig-image-evaluation-april-1-2026/
LOCATION:ZOOM\, Canada
ATTACH;FMTTYPE=image/jpeg:https://www.oshawacameraclub.ca/wp-content/uploads/Post-Logo1-600.jpg
END:VEVENT
BEGIN:VEVENT
DTSTART;TZID=America/Toronto:20260330T100000
DTEND;TZID=America/Toronto:20260330T120000
DTSTAMP:20260424T033820
CREATED:20251203T032238Z
LAST-MODIFIED:20251203T032238Z
UID:174566-1774864800-1774872000@www.oshawacameraclub.ca
SUMMARY:OCC SIG: B&W Photography March 30\, 2026
DESCRIPTION:See SIG Page for Full Details: https://www.oshawacameraclub.ca/special-interest-groups/bw-photo/ \nAll Club Members are free to join in on meetings – see the recurring link below. \nRecurring Zoom Meeting: https://us02web.zoom.us/meetings/81882076312/invitations?signature=CNSyVZV9c0C8wbkuWkBGEsTosi-zEe4m2oFl4R1OWWM \nMeeting ID: 818 8207 6312 \nPasscode: 885569
URL:https://www.oshawacameraclub.ca/event/occ-sig-bw-photography-march-30-2026/
LOCATION:ZOOM\, Canada
ATTACH;FMTTYPE=image/jpeg:https://www.oshawacameraclub.ca/wp-content/uploads/Post-Logo1-600.jpg
END:VEVENT
BEGIN:VEVENT
DTSTART;TZID=America/Toronto:20260324T190000
DTEND;TZID=America/Toronto:20260324T210000
DTSTAMP:20260424T033820
CREATED:20260111T213813Z
LAST-MODIFIED:20260111T214236Z
UID:174855-1774378800-1774386000@www.oshawacameraclub.ca
SUMMARY:OCC Club Meeting: March 24\, 2026
DESCRIPTION:Learning Night (Tentative) \nMeeting agenda:  \n\n\n6:00-7:00pm Virtual Social Hour / Break Out Rooms\n7:00-7:15pm Meeting Announcements\n7:15-8:00pm Part 1\n8:00-8:15pm Break\n8:15-8:50pm Part 2 \n8:50-9:00pm Closing \n9:00-9:30pm Virtual Social\n(All times are approximate and subject to change)\n\nZOOM Link: See Website Post
URL:https://www.oshawacameraclub.ca/event/occ-club-meeting-march-24-2026/
LOCATION:Hope Fellowship Church\, 1685 Bloor St\, Courtice\,\, courtice\, ON\, L1E 2N1\, Canada
ATTACH;FMTTYPE=image/jpeg:https://www.oshawacameraclub.ca/wp-content/uploads/Post-Logo1-600.jpg
END:VEVENT
END:VCALENDAR