BEGIN:VCALENDAR
VERSION:2.0
PRODID:-//Oshawa Camera Club - ECPv6.15.20//NONSGML v1.0//EN
CALSCALE:GREGORIAN
METHOD:PUBLISH
X-WR-CALNAME:Oshawa Camera Club
X-ORIGINAL-URL:https://www.oshawacameraclub.ca
X-WR-CALDESC:Events for Oshawa Camera Club
REFRESH-INTERVAL;VALUE=DURATION:PT1H
X-Robots-Tag:noindex
X-PUBLISHED-TTL:PT1H
BEGIN:VTIMEZONE
TZID:America/Toronto
BEGIN:DAYLIGHT
TZOFFSETFROM:-0500
TZOFFSETTO:-0400
TZNAME:EDT
DTSTART:20250309T070000
END:DAYLIGHT
BEGIN:STANDARD
TZOFFSETFROM:-0400
TZOFFSETTO:-0500
TZNAME:EST
DTSTART:20251102T060000
END:STANDARD
BEGIN:DAYLIGHT
TZOFFSETFROM:-0500
TZOFFSETTO:-0400
TZNAME:EDT
DTSTART:20260308T070000
END:DAYLIGHT
BEGIN:STANDARD
TZOFFSETFROM:-0400
TZOFFSETTO:-0500
TZNAME:EST
DTSTART:20261101T060000
END:STANDARD
BEGIN:DAYLIGHT
TZOFFSETFROM:-0500
TZOFFSETTO:-0400
TZNAME:EDT
DTSTART:20270314T070000
END:DAYLIGHT
BEGIN:STANDARD
TZOFFSETFROM:-0400
TZOFFSETTO:-0500
TZNAME:EST
DTSTART:20271107T060000
END:STANDARD
END:VTIMEZONE
BEGIN:VEVENT
DTSTART;TZID=America/Toronto:20260512T180000
DTEND;TZID=America/Toronto:20260512T210000
DTSTAMP:20260424T070347
CREATED:20260111T215116Z
LAST-MODIFIED:20260111T215116Z
UID:174866-1778608800-1778619600@www.oshawacameraclub.ca
SUMMARY:OCC PhotoEx
DESCRIPTION:You must be logged in to view the details of this event. \nLogin here
URL:https://www.oshawacameraclub.ca/event/occ-photoex/
LOCATION:Hope Fellowship Church\, 1685 Bloor St\, Courtice\,\, courtice\, ON\, L1E 2N1\, Canada
CATEGORIES:Community Event
END:VEVENT
END:VCALENDAR