BEGIN:VCALENDAR
VERSION:2.0
PRODID:-//Oshawa Camera Club - ECPv6.15.20//NONSGML v1.0//EN
CALSCALE:GREGORIAN
METHOD:PUBLISH
X-WR-CALNAME:Oshawa Camera Club
X-ORIGINAL-URL:https://www.oshawacameraclub.ca
X-WR-CALDESC:Events for Oshawa Camera Club
REFRESH-INTERVAL;VALUE=DURATION:PT1H
X-Robots-Tag:noindex
X-PUBLISHED-TTL:PT1H
BEGIN:VTIMEZONE
TZID:America/Toronto
BEGIN:DAYLIGHT
TZOFFSETFROM:-0500
TZOFFSETTO:-0400
TZNAME:EDT
DTSTART:20250309T070000
END:DAYLIGHT
BEGIN:STANDARD
TZOFFSETFROM:-0400
TZOFFSETTO:-0500
TZNAME:EST
DTSTART:20251102T060000
END:STANDARD
BEGIN:DAYLIGHT
TZOFFSETFROM:-0500
TZOFFSETTO:-0400
TZNAME:EDT
DTSTART:20260308T070000
END:DAYLIGHT
BEGIN:STANDARD
TZOFFSETFROM:-0400
TZOFFSETTO:-0500
TZNAME:EST
DTSTART:20261101T060000
END:STANDARD
BEGIN:DAYLIGHT
TZOFFSETFROM:-0500
TZOFFSETTO:-0400
TZNAME:EDT
DTSTART:20270314T070000
END:DAYLIGHT
BEGIN:STANDARD
TZOFFSETFROM:-0400
TZOFFSETTO:-0500
TZNAME:EST
DTSTART:20271107T060000
END:STANDARD
END:VTIMEZONE
BEGIN:VEVENT
DTSTART;TZID=America/Toronto:20260521T190000
DTEND;TZID=America/Toronto:20260521T210000
DTSTAMP:20260424T015925
CREATED:20260112T011643Z
LAST-MODIFIED:20260414T013918Z
UID:174881-1779390000-1779397200@www.oshawacameraclub.ca
SUMMARY:OCC SIG: AI & Photography
DESCRIPTION:See SIG Page for Full Details: https://www.oshawacameraclub.ca/special-interest-groups/occ-sig-ai-photography-sig/ \nNote: This meeting is cancelled.
URL:https://www.oshawacameraclub.ca/event/occ-sig-ai-photography-5/
LOCATION:ZOOM\, Canada
ATTACH;FMTTYPE=image/jpeg:https://www.oshawacameraclub.ca/wp-content/uploads/Post-Logo1-600.jpg
END:VEVENT
END:VCALENDAR