BEGIN:VCALENDAR
VERSION:2.0
PRODID:-//Oshawa Camera Club - ECPv6.15.20//NONSGML v1.0//EN
CALSCALE:GREGORIAN
METHOD:PUBLISH
X-WR-CALNAME:Oshawa Camera Club
X-ORIGINAL-URL:https://www.oshawacameraclub.ca
X-WR-CALDESC:Events for Oshawa Camera Club
REFRESH-INTERVAL;VALUE=DURATION:PT1H
X-Robots-Tag:noindex
X-PUBLISHED-TTL:PT1H
BEGIN:VTIMEZONE
TZID:America/Toronto
BEGIN:DAYLIGHT
TZOFFSETFROM:-0500
TZOFFSETTO:-0400
TZNAME:EDT
DTSTART:20250309T070000
END:DAYLIGHT
BEGIN:STANDARD
TZOFFSETFROM:-0400
TZOFFSETTO:-0500
TZNAME:EST
DTSTART:20251102T060000
END:STANDARD
BEGIN:DAYLIGHT
TZOFFSETFROM:-0500
TZOFFSETTO:-0400
TZNAME:EDT
DTSTART:20260308T070000
END:DAYLIGHT
BEGIN:STANDARD
TZOFFSETFROM:-0400
TZOFFSETTO:-0500
TZNAME:EST
DTSTART:20261101T060000
END:STANDARD
BEGIN:DAYLIGHT
TZOFFSETFROM:-0500
TZOFFSETTO:-0400
TZNAME:EDT
DTSTART:20270314T070000
END:DAYLIGHT
BEGIN:STANDARD
TZOFFSETFROM:-0400
TZOFFSETTO:-0500
TZNAME:EST
DTSTART:20271107T060000
END:STANDARD
END:VTIMEZONE
BEGIN:VEVENT
DTSTART;TZID=America/Toronto:20260425T090000
DTEND;TZID=America/Toronto:20260425T110000
DTSTAMP:20260424T003045
CREATED:20260406T183831Z
LAST-MODIFIED:20260407T144712Z
UID:175626-1777107600-1777114800@www.oshawacameraclub.ca
SUMMARY:Outing to Primitive Designs\, Port Hope
DESCRIPTION:Meet at 9 a.m. for a tour and then shoot until 11 a.m. Bring $10 cash for a donation to Primitive Designs. \nAfter an hour of photos we can meet on the way home at the 401 Enroute westbound between Port Hope and Newcastle. Refreshments  will be available and we can discuss what we found.
URL:https://www.oshawacameraclub.ca/event/outing-to-primitive-designs-port-hope/
LOCATION:Primitive Designs\, Port Hope
ATTACH;FMTTYPE=image/jpeg:https://www.oshawacameraclub.ca/wp-content/uploads/Post-Logo1-600.jpg
END:VEVENT
END:VCALENDAR