BEGIN:VCALENDAR
VERSION:2.0
PRODID:-//Oshawa Camera Club - ECPv6.15.20//NONSGML v1.0//EN
CALSCALE:GREGORIAN
METHOD:PUBLISH
X-WR-CALNAME:Oshawa Camera Club
X-ORIGINAL-URL:https://www.oshawacameraclub.ca
X-WR-CALDESC:Events for Oshawa Camera Club
REFRESH-INTERVAL;VALUE=DURATION:PT1H
X-Robots-Tag:noindex
X-PUBLISHED-TTL:PT1H
BEGIN:VTIMEZONE
TZID:America/Toronto
BEGIN:DAYLIGHT
TZOFFSETFROM:-0500
TZOFFSETTO:-0400
TZNAME:EDT
DTSTART:20250309T070000
END:DAYLIGHT
BEGIN:STANDARD
TZOFFSETFROM:-0400
TZOFFSETTO:-0500
TZNAME:EST
DTSTART:20251102T060000
END:STANDARD
BEGIN:DAYLIGHT
TZOFFSETFROM:-0500
TZOFFSETTO:-0400
TZNAME:EDT
DTSTART:20260308T070000
END:DAYLIGHT
BEGIN:STANDARD
TZOFFSETFROM:-0400
TZOFFSETTO:-0500
TZNAME:EST
DTSTART:20261101T060000
END:STANDARD
BEGIN:DAYLIGHT
TZOFFSETFROM:-0500
TZOFFSETTO:-0400
TZNAME:EDT
DTSTART:20270314T070000
END:DAYLIGHT
BEGIN:STANDARD
TZOFFSETFROM:-0400
TZOFFSETTO:-0500
TZNAME:EST
DTSTART:20271107T060000
END:STANDARD
END:VTIMEZONE
BEGIN:VEVENT
DTSTART;TZID=America/Toronto:20260414T190000
DTEND;TZID=America/Toronto:20260414T210000
DTSTAMP:20260424T003032
CREATED:20260111T214554Z
LAST-MODIFIED:20260407T144908Z
UID:174862-1776193200-1776200400@www.oshawacameraclub.ca
SUMMARY:OCC Club Meeting: April 14\, 2026
DESCRIPTION:Guest Speaker Sandra Herber: Storm-Chasing from a Photographer’s View \nMeeting agenda:  \nMeeting is in person at Hope Fellowship Church.  \n\n\n6:00-7:00pm Virtual Social Hour / Break Out Rooms\n7:00-7:15pm Meeting Announcements\n7:15-8:00pm Part 1\n8:00-8:15pm Break\n8:15-8:50pm Part 2 \n8:50-9:00pm Closing \n9:00-9:30pm Virtual Social\n(All times are approximate and subject to change)\n\nZOOM Link: See Website Post
URL:https://www.oshawacameraclub.ca/event/occ-club-meeting-april-12-2026/
LOCATION:Hope Fellowship Church\, 1685 Bloor St\, Courtice\,\, courtice\, ON\, L1E 2N1\, Canada
ATTACH;FMTTYPE=image/jpeg:https://www.oshawacameraclub.ca/wp-content/uploads/Post-Logo1-600.jpg
END:VEVENT
END:VCALENDAR